BEGIN:VCALENDAR
VERSION:2.0
PRODID:-//eventon.com NONSGML v1.0//EN
BEGIN:VEVENT
UID:69ed8662bfd1b
DTSTAMP:20260426T002834
DTSTART:20211021T030000Z
DTEND:20211022T025900Z
LOCATION:Sala Adolfo Mors Pellegrini 542
SUMMARY:Corrientes entre arreboles
DESCRIPTION: Con entrada libre y gratuita\,  este jueves se inaugura la muestra “Corrientes entre arreboles”\,  de María Emilia Collantes. La exposición\,  que refleja diferentes paisajes correntinos\,  estará abierta hasta el 3 de noviembre. Este jueves\,  a las 20\,  en el Centro Cultural Adolfo Mors (Pellegrini 542) tendrá lugar la apertura de[..]
END:VEVENT
END:VCALENDAR