BEGIN:VCALENDAR
VERSION:2.0
PRODID:-//eventon.com NONSGML v1.0//EN
BEGIN:VEVENT
UID:69ecff1fe37aa
DTSTAMP:20260425T145127
DTSTART:20211022T223000Z
DTEND:20211023T000000Z
LOCATION:Auditorio Julian Zini Chaco 1590
SUMMARY:Viaje al Pais de las Aguas
DESCRIPTION: Eduardo Ledesma invita a la Presentación de su Libro: "Viaje al País de las Aguas" Viernes 22 Octubre - 19:30hs Salon Auditorio Julian Zini - Nuevo Banco de Corrientes &nbsp;
END:VEVENT
END:VCALENDAR