BEGIN:VCALENDAR
VERSION:2.0
PRODID:-//eventon.com NONSGML v1.0//EN
BEGIN:VEVENT
UID:69ed6fbc84432
DTSTAMP:20260425T225156
DTSTART:20211031T000000Z
DTEND:20211031T025500Z
LOCATION:Corrientes 
SUMMARY:La Noche de los Museos
DESCRIPTION: El Gobierno de la Provincia\,  a través del Instituto de Cultura de Corrientes\,  invita a la comunidad en general a participar de una nueva edición de la Noche de los Museos\,  a desarrollarse el sábado 30 de octubre\,  desde las 19 y hasta la medianoche. Participarán los museos provinciales y[..]
END:VEVENT
END:VCALENDAR