BEGIN:VCALENDAR
VERSION:2.0
PRODID:-//eventon.com NONSGML v1.0//EN
BEGIN:VEVENT
UID:69ed56b95be15
DTSTAMP:20260425T210513
DTSTART:20211024T000000Z
DTEND:20211024T020000Z
LOCATION:Teatro Oficial Juan de Vera San Juan 637\,  Corrientes
SUMMARY:En las Puertas del Vera
DESCRIPTION: Este sábado 23 desde las 21 y con acceso gratuito\,  tendrá lugar una nueva edición del ciclo “En las Puertas del Vera”. En esta ocasión será con la Orquesta Sinfónica de la Provincia que junto con el Comitato Dante Alighieri de Corrientes presentarán "Un Canto a Italia". Bajo la batuta de la Mtra. Andrea[..]
END:VEVENT
END:VCALENDAR