BEGIN:VCALENDAR
VERSION:2.0
PRODID:-//eventon.com NONSGML v1.0//EN
BEGIN:VEVENT
UID:69ed3fa38feab
DTSTAMP:20260425T192643
DTSTART:20211019T140000Z
DTEND:20211019T160000Z
LOCATION:Teatro Oficial Juan de Vera San Juan 637\,  Corrientes
SUMMARY:Sin Limites
DESCRIPTION: Este martes 19 de octubre\,  desde las 11 en el hall del Teatro Vera\,  se realizará la presentación del nuevo CD del grupo chamamecero “Los Blanco”. Un grupo que se inició en 1998\,  se podría decir que\,  de manera espontánea\,  conociendo escenarios porteños\,  con tal repercusión\,  que iniciaron una carrera[..]
END:VEVENT
END:VCALENDAR