BEGIN:VCALENDAR
VERSION:2.0
PRODID:-//eventon.com NONSGML v1.0//EN
BEGIN:VEVENT
UID:69ecdc1013ee0
DTSTAMP:20260425T122152
DTSTART:20211014T230000Z
DTEND:20211015T020000Z
LOCATION:Museo Provincial de Bellas Artes «Dr. Juan R. Vidal» San Juan 634\,  Corrientes Capital
SUMMARY:Pide al tiempo que vuelva
DESCRIPTION: “Pide al tiempo que vuelva” es la película que se proyectará este jueves 14 de octubre a partir de las 20 hs. en el ciclo "Cine en el Bellas Artes"\,  en el Museo de Bellas Artes “Dr. Juan R. Vidal”. Richard Collier es un joven dramaturgo al que\,  en la[..]
END:VEVENT
END:VCALENDAR