BEGIN:VCALENDAR
VERSION:2.0
PRODID:-//eventon.com NONSGML v1.0//EN
BEGIN:VEVENT
UID:69ecc29a883ba
DTSTAMP:20260425T103314
DTSTART:20211015T230000Z
DTEND:20211016T020000Z
LOCATION:Teatro Oficial Juan de Vera San Juan 637\,  Corrientes
SUMMARY:Variete musical
DESCRIPTION: El Museo de Bellas Artes “Dr. Juan R. Vidal” reinicia el ciclo de "Música en el Museo" este viernes 15 de octubre a partir de las 20\,  con Varieté musical 2021 a cargo de alumnos del Instituto de Canto Open Singing\,  coordinado por el profesor Juan Manuel Martínez. El programa[..]
END:VEVENT
END:VCALENDAR