BEGIN:VCALENDAR
VERSION:2.0
PRODID:-//eventon.com NONSGML v1.0//EN
BEGIN:VEVENT
UID:69eca8cc1f2e3
DTSTAMP:20260425T084308
DTSTART:20211017T000000Z
DTEND:20211017T020000Z
LOCATION:
SUMMARY:Festival Chamamecero
DESCRIPTION: El sábado 16\,  a partir de las 21\,  en el Teatro Cervantes de la localidad de Mercedes se realizará un festival chamamecero con motivo de celebrarse el Día de la Madre. En está ocasión actuarán distintos artistas pero se hará presente la Orquesta y Coro Folclórico de la Provincia\,  con[..]
END:VEVENT
END:VCALENDAR