BEGIN:VCALENDAR
VERSION:2.0
PRODID:-//eventon.com NONSGML v1.0//EN
BEGIN:VEVENT
UID:69ec2f8dc8956
DTSTAMP:20260425T000549
DTSTART:20211011T030000Z
DTEND:20211021T025900Z
LOCATION:Corrientes 
SUMMARY:Deportes Electrónicos Correntinos
DESCRIPTION: Está a punto de empezar la tercera competencia de Teko 3.0\,  iniciativa del Gobierno de Corrientes en colaboración con la Asociación de Deportes Electrónicos y Videojuegos de Argentina para traer a Corrientes competencias de deportes electrónicos abiertas a toda la comunidad de la provincia. Teko 3.0 comenzó el año 2020[..]
END:VEVENT
END:VCALENDAR