BEGIN:VCALENDAR
VERSION:2.0
PRODID:-//eventon.com NONSGML v1.0//EN
BEGIN:VEVENT
UID:69ec13e3d6c78
DTSTAMP:20260424T220747
DTSTART:20211017T210000Z
DTEND:20211018T050000Z
LOCATION:Anfiteatro Cocomarola Av. Patagonia y J. M. Estrada\,  Corrientes\,  Corrientes
SUMMARY:Música en Acción
DESCRIPTION: El Gobierno de la provincia de Corrientes\,  a través del Instituto de Cultura y junto a la Federación de Músicos Independientes Unidos (MIU)\,  realizará durante todo el mes de octubre el Ciclo: "Música en Acción" que reunirá músicos de diferentes géneros en el anfiteatro Tránsito Cocomarola. Este evento tendrá lugar[..]
END:VEVENT
END:VCALENDAR