BEGIN:VCALENDAR
VERSION:2.0
PRODID:-//eventon.com NONSGML v1.0//EN
BEGIN:VEVENT
UID:69ed2c246ecdb
DTSTAMP:20260425T180332
DTSTART:20211030T030000Z
DTEND:20211101T025900Z
LOCATION:Pasaje Thomas Edison Pasaje Thomas Edison
SUMMARY:2da Expo Hecho en Corrientes
DESCRIPTION: Se desarrollará en nuestra provincia la 2da Expo Hecho en Corrientes\,  dedicada exclusivamente a los productos que llevan con orgullo la marca “Hecho en Corrientes”\,  los días 30 y 31 de octubre en Pasaje Tomás Edison y Costanera\,  Corrientes Capital.
END:VEVENT
END:VCALENDAR