BEGIN:VCALENDAR
VERSION:2.0
PRODID:-//eventon.com NONSGML v1.0//EN
BEGIN:VEVENT
UID:69ebe5c6028af
DTSTAMP:20260424T185102
DTSTART:20211008T030000Z
DTEND:20211012T025900Z
LOCATION:Corrientes 
SUMMARY:Master Hockey
DESCRIPTION: Con el acompañamiento del Ministerio de Turismo de Corrientes\,  se presentó en Casa Ibera\,  lo que será del 8 al 11 de octubre este 1er Torneo de Master Hockey en Corrientes. Por lo tanto\,  estuvo presente el Presidente de la Asociación de Hockey de Corrientes Gustavo Romero; la Tesorera Cristian[..]
END:VEVENT
END:VCALENDAR