BEGIN:VCALENDAR
VERSION:2.0
PRODID:-//eventon.com NONSGML v1.0//EN
BEGIN:VEVENT
UID:69ebce6ae2f7d
DTSTAMP:20260424T171122
DTSTART:20211106T030000Z
DTEND:20211107T025900Z
LOCATION:Goya 
SUMMARY:La Neike
DESCRIPTION: Esta mañana en Casa Ibera se llevó a cabo la presentación de lo que será ésta actividad hecha por y para corredores. Por lo tanto\,  ésta carrera aventura empotrada en el balcón de la ciudad de Goya al límite con el municipio de Carolina\,  se realizará el 7 de noviembre[..]
END:VEVENT
END:VCALENDAR