BEGIN:VCALENDAR
VERSION:2.0
PRODID:-//eventon.com NONSGML v1.0//EN
BEGIN:VEVENT
UID:69eaf3f312334
DTSTAMP:20260424T013915
DTSTART:20211002T210000Z
DTEND:20211002T220000Z
LOCATION:Playa Arazaty Av. Costanera Juan Pablo II
SUMMARY:Descubri Corrientes
DESCRIPTION: Será este sábado a partir de las 18\,  con una recorrida por la punta Arazaty y su historia. La actividad forma parte de un programa organizado por la Municipalidad para acompañar a los guías locales\,  y de concientización del turismo tanto para vecinos como para turistas. Los cupos son limitados[..]
END:VEVENT
END:VCALENDAR