BEGIN:VCALENDAR
VERSION:2.0
PRODID:-//eventon.com NONSGML v1.0//EN
BEGIN:VEVENT
UID:69eaaf435971e
DTSTAMP:20260423T204611
DTSTART:20210930T200000Z
DTEND:20211003T000000Z
LOCATION:Parque Camba Cua Pellegrini\,  entre Chaco y San Luis
SUMMARY:Ciudad de Diseño
DESCRIPTION: En el parque Camba Cuá\,  desde las 17\,  la Municipalidad de Corrientes pondrá en marcha este sábado una nueva edición de la Feria Ciudad de Diseño\,  un espacio donde los emprendedores locales pueden mostrar y comercializar sus producciones en indumentaria\,  artesanías en madera\,  telas\,  entre otros. Este sábado\,  a partir[..]
END:VEVENT
END:VCALENDAR