BEGIN:VCALENDAR
VERSION:2.0
PRODID:-//eventon.com NONSGML v1.0//EN
BEGIN:VEVENT
UID:69ea967c06597
DTSTAMP:20260423T190028
DTSTART:20211003T200000Z
DTEND:20211004T020000Z
LOCATION:Parque Mitre Av. Juan Torres de Vera y Aragon 1597
SUMMARY:EMPRENDEDORES VENEZOLANOS
DESCRIPTION: El domingo\,  en el parque Mitre\,  desde las 17 tendrá lugar la Primera Feria de Emprendedores Venezolanos. En la oportunidad\,  los vecinos podrán degustar de comidas típicas realizadas por emprendedores gastronómicos\,  además de encontrar artículos de decoración\,  cervezas artesanales\,  indumentaria y accesorios. Esta actividad cuenta con el apoyo y acompañamiento[..]
END:VEVENT
END:VCALENDAR