BEGIN:VCALENDAR
VERSION:2.0
PRODID:-//eventon.com NONSGML v1.0//EN
BEGIN:VEVENT
UID:69ea7d0f50928
DTSTAMP:20260423T171159
DTSTART:20211001T040000Z
DTEND:20211001T040000Z
LOCATION:
SUMMARY:Homenaje a Ramona Galarza\,  Marily Morales Segovia y Martha Quiles
DESCRIPTION: El Gobierno de la Provincia de Corrientes\,  a través del Instituto de Cultura\,  se sumó a la iniciativa impulsada por la Dirección General de Cultura de la Cámara de Diputados de la Nación\,  y la diputada nacional por Corrientes\,  Ingrid Jetter\,  que habilitaron una muestra digital para rendir homenaje a[..]
END:VEVENT
END:VCALENDAR