BEGIN:VCALENDAR
VERSION:2.0
PRODID:-//eventon.com NONSGML v1.0//EN
BEGIN:VEVENT
UID:69eba8b00cb05
DTSTAMP:20260424T143024
DTSTART:20211010T040000Z
DTEND:20211010T040000Z
LOCATION:Casa del Bicentenario Av. Laprida y Av. Alfoncín
SUMMARY:LA DANZA DESDE LO CLÁSICO A LO CONTEMPORÁNEO
DESCRIPTION: Invita: Subsecretaría de Cultura. Secretaría de Turismo\,  Cultura y Deportes. Lugar: Casa del Bicentenario. Av. Laprida y Av. Raúl Alfonsin. Barrio San Gerónimo Horario: De 9 a 12 Hs. Divulgar – concientizar – valorizar la danza clásica en Corrientes
END:VEVENT
END:VCALENDAR