BEGIN:VCALENDAR
VERSION:2.0
PRODID:-//eventon.com NONSGML v1.0//EN
BEGIN:VEVENT
UID:69eb92b6817fa
DTSTAMP:20260424T125638
DTSTART:20211002T210000Z
DTEND:20211003T040000Z
LOCATION:
SUMMARY:BEER TOURS FEST
DESCRIPTION: Patio Gastronómico + cerveza artesanal Invita: Subsecretaría de Turismo. Secretaría de Turismo\,  Cultura y Deportes. Lugar: Av. Costanera Juan Pablo II y Av. 3 de Abril Horario: De 18 a 20 Hs. Cerveza Artesanal y comidas TípicasDj en vivo
END:VEVENT
END:VCALENDAR