BEGIN:VCALENDAR
VERSION:2.0
PRODID:-//eventon.com NONSGML v1.0//EN
BEGIN:VEVENT
UID:69eb7b6132cc0
DTSTAMP:20260424T111705
DTSTART:20211001T120000Z
DTEND:20211001T143000Z
LOCATION:Casa del Bicentenario Av. Laprida y Av. Alfoncín
SUMMARY:KARAÍ DE OCTUBRE
DESCRIPTION: Degustación de platos típicos y frutal Invita: Subsecretaría de Cultura. Secretaría de Turismo\,  Cultura y Deportes. Lugar: Casa del Bicentenario (Av. Laprida y Av. Raúl Alfonsin) Horarios: De 9 a 13.00 Hs. Actuación: Elenco municipal "Los del Paraná"
END:VEVENT
END:VCALENDAR