BEGIN:VCALENDAR
VERSION:2.0
PRODID:-//eventon.com NONSGML v1.0//EN
BEGIN:VEVENT
UID:69eb51a68f7c7
DTSTAMP:20260424T081902
DTSTART:20211001T130000Z
DTEND:20211001T163000Z
LOCATION:Casa Molina Carlos Pellegrini 937
SUMMARY:KARAÍ DE OCTUBRE
DESCRIPTION: Degustación de platos típicos y frutal Invita: Subsecretaría de Cultura. Secretaría de Turismo\,  Cultura y Deportes. Lugar: Casa Molinas\,  museo de sitio\,  historico y arqueologico (Pellegrini 937) Horarios: De 10 a 13.30 Hs.
END:VEVENT
END:VCALENDAR