BEGIN:VCALENDAR
VERSION:2.0
PRODID:-//eventon.com NONSGML v1.0//EN
BEGIN:VEVENT
UID:69eb37f903949
DTSTAMP:20260424T062929
DTSTART:20210930T120000Z
DTEND:20210930T150000Z
LOCATION:Plaza Cabral Santa Fe - H. Yrigoyen
SUMMARY:FERIA DEL LIBRO
DESCRIPTION: Invita: Subsecretaría de Turismo. Secretaría de Turismo\,  Cultura y Deportes. Lugar: Plaza Cabral Horarios: De 9 a 12 Hs.
END:VEVENT
END:VCALENDAR