BEGIN:VCALENDAR
VERSION:2.0
PRODID:-//eventon.com NONSGML v1.0//EN
BEGIN:VEVENT
UID:69e9fc7b69ec7
DTSTAMP:20260423T080323
DTSTART:20211002T213000Z
DTEND:20211003T000000Z
LOCATION:Corrientes 
SUMMARY:Sunset Notarial
DESCRIPTION: Te invitamos a celebrar el #DiadelEscribano Después de un largo tiempo sin reunirnos\,  queremos festejar juntos este día especial ¡Vení al #SunsetNotarial! Habrá músicos en vivo\,  barra de tragos y sorteos con premios para los asistentes Buscá tu entrada en la Sede Central\,  ¿te lo vas a perder?
END:VEVENT
END:VCALENDAR