BEGIN:VCALENDAR
VERSION:2.0
PRODID:-//eventon.com NONSGML v1.0//EN
BEGIN:VEVENT
UID:69eb20ebd9b80
DTSTAMP:20260424T045107
DTSTART:20210930T220000Z
DTEND:20211001T000000Z
LOCATION:
SUMMARY:3ª Charla Virtual de Nóveles
DESCRIPTION: Los invitamos a participar de la 3ª Charla Virtual de Nóveles este 📅jueves 30/09 a las 19 👥El eje central será “Identificación de personas: DNI\,  pasaporte\,  firma y huellas dactilares” 💬En la oportunidad\,  disertará el Plantel de Licenciados en Criminalística de la UFIE y la Licenciada en Criminalística\,  escribana Griselda[..]
END:VEVENT
END:VCALENDAR