BEGIN:VCALENDAR
VERSION:2.0
PRODID:-//eventon.com NONSGML v1.0//EN
BEGIN:VEVENT
UID:69eadd76bcc0f
DTSTAMP:20260424T000318
DTSTART:20210930T173000Z
DTEND:20210930T193000Z
LOCATION:
SUMMARY:3° Jornada Introductoria al Sistema Tributario
DESCRIPTION: En el marco del proyecto de extensión "Juntos Mejoramos la educación tributaria de TU lugar". 30 de septiembre a las 14:30 hs. En #ZOOM  ID 872 5869 9011 Destinada a Comunidad Académica. Emprendedores y pequeños productores. Público en general. Actividad gratuita.
END:VEVENT
END:VCALENDAR