BEGIN:VCALENDAR
VERSION:2.0
PRODID:-//eventon.com NONSGML v1.0//EN
BEGIN:VEVENT
UID:69eac652508f9
DTSTAMP:20260423T222434
DTSTART:20211002T000000Z
DTEND:20211004T020000Z
LOCATION:Teatro de la Ciudad Pasaje Villanueva 1470
SUMMARY:Ventana Artistica de Corrientes
DESCRIPTION: Miren todas las propuestas teatrales de este finde ! Agenda Teatral desde el Vie 1/10 al Dom 3/10
END:VEVENT
END:VCALENDAR