BEGIN:VCALENDAR
VERSION:2.0
PRODID:-//eventon.com NONSGML v1.0//EN
BEGIN:VEVENT
UID:69ea0d1c1324e
DTSTAMP:20260423T091420
DTSTART:20210929T140000Z
DTEND:20210929T150000Z
LOCATION:Instituto de Cardiología Corrientes Bolivar 1334
SUMMARY:Día Mundial del Corazón
DESCRIPTION: El miercoles 29 de septiembre\,  desde las 11h\,  se realizará la transmisión televisiva\,  en directo\,  desde el hall del Instituto de Cardiología\,  el Homenaje al Padre Julián Zini en su natalicio y en coincidencia con el Día Mundial del Corazón\,  a través del canal T5 Satelital. El concierto\,  estará a[..]
END:VEVENT
END:VCALENDAR