BEGIN:VCALENDAR
VERSION:2.0
PRODID:-//eventon.com NONSGML v1.0//EN
BEGIN:VEVENT
UID:69ea64bf14a09
DTSTAMP:20260423T152815
DTSTART:20211003T000000Z
DTEND:20211003T025500Z
LOCATION:
SUMMARY:Concierto de Percusión
DESCRIPTION: Obras académicas\,  estreno de Ñembotaby de Osvaldo Burgos\,  Payada de malambo\,  música de carnaval correntino. Percusionistas de la Orquesta Sinfónica\,  Instituto Superior de Música C. De Biasi\,  alumnos del curso de percusión Carnavalera (organizado por el Instituto de Cultura). Participación especial del Litoral Ballet\,  dirigida por Carlos Centurión y Compañía[..]
END:VEVENT
END:VCALENDAR