BEGIN:VCALENDAR
VERSION:2.0
PRODID:-//eventon.com NONSGML v1.0//EN
BEGIN:VEVENT
UID:69ea44ef33d6a
DTSTAMP:20260423T131231
DTSTART:20211002T220000Z
DTEND:20211003T025500Z
LOCATION:
SUMMARY:Karaí Octubre
DESCRIPTION: Sábado2 - de 19 a 00\,  se realizará la celebración por Karaí Octubre en el Museo de Artesanías Tradicionales (MAT)\,  ubicado en la intersección de Salta y Quintana. Se ofrecerán distintas comidas típicas paraguayas realizadas con las técnicas precolombinas guaraníes: •sopa paraguaya\,  • chipa guazú (choclo y queso)\,  • mandi'o[..]
END:VEVENT
END:VCALENDAR