BEGIN:VCALENDAR
VERSION:2.0
PRODID:-//eventon.com NONSGML v1.0//EN
BEGIN:VEVENT
UID:69ea20b67b42c
DTSTAMP:20260423T103758
DTSTART:20211001T140000Z
DTEND:20211001T160000Z
LOCATION:Teatro Oficial Juan de Vera San Juan 637\,  Corrientes
SUMMARY:Música en Clave de Cafe
DESCRIPTION: Este viernes 1 de octubre desde las 11\,  en el hall del Teatro Vera tendrá lugar la tercera presentación en el marco del ciclo “Música en clave de café”. Una excelente oportunidad para comenzar a bajar los niveles de adrenalina\,  disfrutando de un buen café en la comodidad y seguridad[..]
END:VEVENT
END:VCALENDAR