BEGIN:VCALENDAR
VERSION:2.0
PRODID:-//eventon.com NONSGML v1.0//EN
BEGIN:VEVENT
UID:69e9d2613ada2
DTSTAMP:20260423T050345
DTSTART:20211002T030000Z
DTEND:20211004T025900Z
LOCATION:
SUMMARY:XXI Encuentro de Ferias Francas
DESCRIPTION: Será el próximo 2 de octubre en el Parque Mitre de la Ciudad de Corrientes. La Feria será una gran vidriera de diversos productos de la economía regional\,  de artesanías y de sabores autóctonos. El evento es organizado con el fin de agrupar a expositores de diferentes puntos de la[..]
END:VEVENT
END:VCALENDAR