BEGIN:VCALENDAR
VERSION:2.0
PRODID:-//eventon.com NONSGML v1.0//EN
BEGIN:VEVENT
UID:69e9fc0be4b83
DTSTAMP:20260423T080131
DTSTART:20211001T113000Z
DTEND:20211001T180000Z
LOCATION:
SUMMARY:XXIIº Jornadas de Turismo y Género
DESCRIPTION: La Cátedra de Práctica Profesional y Taller de Práctica de la Carrera de Licenciatura en Turismo\,  dependiente de Facultad de Artes\,  Diseño y Ciencias de la Cultura de la Universidad Nacional del Nordeste\,  organiza la XXIIº Jornadas de Turismo y Género. El lema planteado por la organización es “El Turismo[..]
END:VEVENT
END:VCALENDAR