BEGIN:VCALENDAR
VERSION:2.0
PRODID:-//eventon.com NONSGML v1.0//EN
BEGIN:VEVENT
UID:69e9bd3f03d36
DTSTAMP:20260423T033335
DTSTART:20210926T003200Z
DTEND:20210926T020000Z
LOCATION:
SUMMARY:Show de Baterias
DESCRIPTION: ¡Estamos disfrutando a pleno la #SemanaDelComparsero! Este sábado\,  los vecinos podrán acercarse al Anfiteatro Cocomarola para disfrutar de un gran show de baterías. Para asistir\,  los vecinos podrán registrarse desde el mediodía en  http://sistemas.ciudaddecorrientes.gov.ar/turnos/
END:VEVENT
END:VCALENDAR