BEGIN:VCALENDAR
VERSION:2.0
PRODID:-//eventon.com NONSGML v1.0//EN
BEGIN:VEVENT
UID:69e9a6d34f33f
DTSTAMP:20260423T015755
DTSTART:20210923T000000Z
DTEND:20210923T020000Z
LOCATION:
SUMMARY:Moda y Carnaval
DESCRIPTION: ¡El teatro Vera se tiñe de carnaval!Esta noche\,  desde las 21\,  los vecinos podrán disfrutar del desfile gratuito 'Moda y Carnaval'. El mismo contará con la presencia de destacadas personalidades de nuestra fiesta carnestolenda y música en vivo
END:VEVENT
END:VCALENDAR