BEGIN:VCALENDAR
VERSION:2.0
PRODID:-//eventon.com NONSGML v1.0//EN
BEGIN:VEVENT
UID:69e991c3cb36b
DTSTAMP:20260423T002803
DTSTART:20210920T040000Z
DTEND:20210920T040000Z
LOCATION:
SUMMARY:La Devoción de la Virgen de la Merced
DESCRIPTION: Este miércoles a las 20 se realizará la conferencia La Devoción de la Virgen de la Merced en la Historia de Corrientes. La misma estará a cargo de Alexis Dabat\,  miembro de número de la Junta de Historia de la Provincia de Corrientes. Invitan a esta actividad el Instituto de[..]
END:VEVENT
END:VCALENDAR