BEGIN:VCALENDAR
VERSION:2.0
PRODID:-//eventon.com NONSGML v1.0//EN
BEGIN:VEVENT
UID:69e967e970164
DTSTAMP:20260422T212929
DTSTART:20210918T210000Z
DTEND:20210920T020000Z
LOCATION:Anfiteatro Cocomarola Av. Patagonia y J. M. Estrada\,  Corrientes\,  Corrientes
SUMMARY:Celebración por el Día del Chamame
DESCRIPTION: Este año la celebración por el Día del Chamamé será especial y se extenderá a distintos puntos del país. Comenzará este sábado 18 de septiembre con un gran festival en el anfiteatro Mario del Tránsito Cocomarola. En la jornada central\,  el domingo 19\,  habrá música y baile en San Cosme[..]
END:VEVENT
END:VCALENDAR