BEGIN:VCALENDAR
VERSION:2.0
PRODID:-//eventon.com NONSGML v1.0//EN
BEGIN:VEVENT
UID:69ea16b3700cd
DTSTAMP:20260423T095515
DTSTART:20210918T030000Z
DTEND:20210920T025900Z
LOCATION:Casa Ñandereko 25 de Mayo 1151
SUMMARY:Enchamigada en Casa Ñandereko
DESCRIPTION: En vísperas del Día Nacional del Chamamé\,  el Gobierno de Corrientes a través del Instituto de Cultura de Corrientes organizó una enchamigada que tuvo lugar hoy a la mañana en Casa Ñandereko. Una charla abierta sobre la postulación y seguidamente declaración del chamamé como Patrimonio Cultural Inmaterial de la Humanidad.[..]
END:VEVENT
END:VCALENDAR