BEGIN:VCALENDAR
VERSION:2.0
PRODID:-//eventon.com NONSGML v1.0//EN
BEGIN:VEVENT
UID:69e95549ebc76
DTSTAMP:20260422T201001
DTSTART:20210918T020000Z
DTEND:20210917T040000Z
LOCATION:Teatro Oficial Juan de Vera San Juan 637\,  Corrientes
SUMMARY:El arte del contrapunto
DESCRIPTION: Concierto “El arte del contrapunto” Hall del teatro. 17 de septiembre\,  desde las 11:00. &nbsp; Johann Sebastian Bach: Invenciones a dos voces  N° 11 N° 8 Adaptación para Flauta y viola: Lucas Quinteros Músicos: Lucas Quinteros. Flauta. Paola Ruiz. Viola. Wilhelm Friedemann Bach: Dueto N°2 en sol menor para dos Flautas Allegro ma[..]
END:VEVENT
END:VCALENDAR