BEGIN:VCALENDAR
VERSION:2.0
PRODID:-//eventon.com NONSGML v1.0//EN
BEGIN:VEVENT
UID:69e953149a4a5
DTSTAMP:20260422T200036
DTSTART:20211025T030000Z
DTEND:20211030T025900Z
LOCATION:Riachuelo Ctes 
SUMMARY:Exposición Nacional de Razas
DESCRIPTION: A través de su twitter oficial\,  el gobernador Gustavo Valdés informó que es un “orgullo anunciar que Corrientes será sede de la Exposición Nacional de Razas\,  la muestra más importante de Argentina durante 2021”. La misma\,  en su edición número 51\,  se realizará del 25 al 29 de octubre\,  en[..]
END:VEVENT
END:VCALENDAR