BEGIN:VCALENDAR
VERSION:2.0
PRODID:-//eventon.com NONSGML v1.0//EN
BEGIN:VEVENT
UID:69e9151fa599d
DTSTAMP:20260422T153615
DTSTART:20210908T170000Z
DTEND:20210908T180000Z
LOCATION:
SUMMARY:Registro de Pequeñas Unidades Productivas de Alimentos (PUPA)
DESCRIPTION: La Municipalidad brindará un taller gratuito para emprendedores gastronómicos Se trata de una capacitación para acompañar a los productores de alimentos de pequeña escala. Se realizará este miércoles a partir de las 14\,  por la plataforma Zoom\,  y estará a cargo de la ingeniera en Alimentos Celeste Arrazate. En el[..]
END:VEVENT
END:VCALENDAR