BEGIN:VCALENDAR
VERSION:2.0
PRODID:-//eventon.com NONSGML v1.0//EN
BEGIN:VEVENT
UID:69e92a06ab2b1
DTSTAMP:20260422T170526
DTSTART:20210916T130000Z
DTEND:20210916T140000Z
LOCATION:
SUMMARY:Programa de Fortalecimiento para Prestadores de Servicios Turísticos
DESCRIPTION: En el marco del Plan Estratégico de Desarrollo del Iberá\,  el Gobierno Provincial dará inicio a un programa de fortalecimiento institucional dirigido a prestadores de servicios turísticos vinculados al área de influencia del Iberá; los dueños y gerentes de alojamientos\,  restaurantes\,  transportes\,  guías\,  dueños de locales de artesanías\,  y agencias[..]
END:VEVENT
END:VCALENDAR