BEGIN:VCALENDAR
VERSION:2.0
PRODID:-//eventon.com NONSGML v1.0//EN
BEGIN:VEVENT
UID:69e8fdaa6db53
DTSTAMP:20260422T135610
DTSTART:20210906T120000Z
DTEND:20210910T210000Z
LOCATION:
SUMMARY:III CONGRESO PROVINCIAL DE CIENCIA Y TECNOLOGÍA
DESCRIPTION: El Gobierno de la Provincia y el ministerio de Educación junto a la dirección de Ciencia y Tecnología a través del programa Provincial “Corrientes Educa Virtual”\,  realizó esta mañana la apertura del “III Congreso provincial de Ciencia y Tecnología” edición 2021 virtual\,  en el Salón de actos del Colegio Hipólito[..]
END:VEVENT
END:VCALENDAR