BEGIN:VCALENDAR
VERSION:2.0
PRODID:-//eventon.com NONSGML v1.0//EN
BEGIN:VEVENT
UID:69e8d5eb900ac
DTSTAMP:20260422T110635
DTSTART:20210909T220000Z
DTEND:20210910T000000Z
LOCATION:
SUMMARY:Hablamos de Penal...
DESCRIPTION: Café Jurídico por Videoconferencia Hablamos de Penal...Actuación en Comisaría...Que podemos hacer los Abogados en ejercicio profesional Zoom Jueves 9 de septiembre 19 hs. Disertante: Dr. Julio Ramón Fernández Moderador: Juan Pablo Reinafe Inscripción https://forms.gle/g6XcAREuNNeho1Sj6
END:VEVENT
END:VCALENDAR