BEGIN:VCALENDAR
VERSION:2.0
PRODID:-//eventon.com NONSGML v1.0//EN
BEGIN:VEVENT
UID:69e8e90d5064b
DTSTAMP:20260422T122813
DTSTART:20210910T140000Z
DTEND:20210910T150000Z
LOCATION:
SUMMARY:Música en clave de Café
DESCRIPTION: El Gobierno de la Provincia\,  a través del Instituto de Cultura de Corrientes\,  y la dirección de Artes Escénicas\,  Música y Artes Audiovisuales\,  invita al comunidad correntina a disfrutar del nuevo ciclo "Música en clave de café" que se desarrollará todos los viernes\,  a las 11\,  en el hall del[..]
END:VEVENT
END:VCALENDAR