BEGIN:VCALENDAR
VERSION:2.0
PRODID:-//eventon.com NONSGML v1.0//EN
BEGIN:VEVENT
UID:69e8c170999c1
DTSTAMP:20260422T093912
DTSTART:20210903T120000Z
DTEND:20210903T140000Z
LOCATION:
SUMMARY:Chamamé como herramienta para el desarrollo turístico
DESCRIPTION: El Gobierno de Corrientes\,  a través del Instituto de Cultura\,  participará de la Cátedra Abierta “Problemática Contemporánea de Turismo” organizada por la Facultad de Humanidades y Ciencias Sociales de la Universidad Nacional de Misiones. En este marco\,  está prevista la exposición sobre el patrimonio inmaterial como herramienta para el desarrollo[..]
END:VEVENT
END:VCALENDAR