BEGIN:VCALENDAR
VERSION:2.0
PRODID:-//eventon.com NONSGML v1.0//EN
BEGIN:VEVENT
UID:69e8ac1b9e4c7
DTSTAMP:20260422T080811
DTSTART:20210831T160700Z
DTEND:20210831T160700Z
LOCATION:
SUMMARY:INDUSTRIA 4.0
DESCRIPTION: Te invitamos a participar de la Conferencia INDUSTRIA 4.0: Sistemas y Servicios en una nueva Era Industrial La actividad está destinada estudiantes y graduados de las carreras Ingeniería en Sistemas de Información\,  Licenciatura en Sistemas de Información y público en general interesado en la temática. Disertará el Ing. en Informática[..]
END:VEVENT
END:VCALENDAR