BEGIN:VCALENDAR
VERSION:2.0
PRODID:-//eventon.com NONSGML v1.0//EN
BEGIN:VEVENT
UID:69e890814fdec
DTSTAMP:20260422T061025
DTSTART:20210909T170000Z
DTEND:20210909T190000Z
LOCATION:
SUMMARY:Foodstyling
DESCRIPTION: Taller: Foodstyling: consejos y desarrollo para tu marca gastronómica  La actividad está destinada a estudiantes de las Lic. en Publicidad y Lic. en Diseño Gráfico y Multimedia. Emprendedores. Fotógrafos amateurs. Profesionales de diversas disciplinas. Público en general interesado en la temática. Profesional a cargo del taller  María Gabriela Gaona: Licenciada[..]
END:VEVENT
END:VCALENDAR