BEGIN:VCALENDAR
VERSION:2.0
PRODID:-//eventon.com NONSGML v1.0//EN
BEGIN:VEVENT
UID:69e81ae666a34
DTSTAMP:20260421T214838
DTSTART:20210901T220000Z
DTEND:20210901T230000Z
LOCATION:
SUMMARY:El Internet de las cosas
DESCRIPTION: Te invitamos a participar de la Conferencia  El Internet de las cosas La actividad está destinada a estudiantes y graduados de la Licenciatura en Sistemas de Información e Ingeniería en Sistemas de Información. Estudiantes de Nivel Secundario y público en general interesado en la temática. Disertará Marcos Politi Master en[..]
END:VEVENT
END:VCALENDAR