BEGIN:VCALENDAR
VERSION:2.0
PRODID:-//eventon.com NONSGML v1.0//EN
BEGIN:VEVENT
UID:69e80051cc281
DTSTAMP:20260421T195513
DTSTART:20210830T210000Z
DTEND:20210830T220000Z
LOCATION:
SUMMARY:Hacia una abogacía con perspectiva de Género
DESCRIPTION: WEBINAR “Hacia una abogacía con perspectiva de Género". En el marco del día de la abogacía Lunes 30 de Agosto a las 18:00  Transmisión en vivo por Facebook Live de @cuencadelplatasp Acceso Libre y Gratuito con inscripción previa en actividades.ucp.edu.ar
END:VEVENT
END:VCALENDAR