BEGIN:VCALENDAR
VERSION:2.0
PRODID:-//eventon.com NONSGML v1.0//EN
BEGIN:VEVENT
UID:69e87b667c064
DTSTAMP:20260422T044022
DTSTART:20210904T000000Z
DTEND:20210904T020000Z
LOCATION:
SUMMARY:Espectáculo de títeres "Cóctel"
DESCRIPTION: Vuelve "En las puertas del Vera" con el espectáculo de títeres “Cóctel” Dispuesto por el Gobierno de la Provincia y ejecutado por el Instituto de Cultura\,  se presentará el viernes 3 de septiembre a las 21 horas\,  un espectáculo al aire libre\,  en las escalinatas del teatro\,  dentro del ciclo[..]
END:VEVENT
END:VCALENDAR